BEGIN:VCALENDAR
VERSION:2.0
PRODID:-//GUIDETOGAY.COM - ECPv6.15.20//NONSGML v1.0//EN
CALSCALE:GREGORIAN
METHOD:PUBLISH
X-ORIGINAL-URL:https://guidetogay.com
X-WR-CALDESC:Events for GUIDETOGAY.COM
REFRESH-INTERVAL;VALUE=DURATION:PT1H
X-Robots-Tag:noindex
X-PUBLISHED-TTL:PT1H
BEGIN:VTIMEZONE
TZID:Australia/Sydney
BEGIN:STANDARD
TZOFFSETFROM:+1100
TZOFFSETTO:+1000
TZNAME:AEST
DTSTART:20240406T160000
END:STANDARD
BEGIN:DAYLIGHT
TZOFFSETFROM:+1000
TZOFFSETTO:+1100
TZNAME:AEDT
DTSTART:20241005T160000
END:DAYLIGHT
BEGIN:STANDARD
TZOFFSETFROM:+1100
TZOFFSETTO:+1000
TZNAME:AEST
DTSTART:20250405T160000
END:STANDARD
BEGIN:DAYLIGHT
TZOFFSETFROM:+1000
TZOFFSETTO:+1100
TZNAME:AEDT
DTSTART:20251004T160000
END:DAYLIGHT
BEGIN:STANDARD
TZOFFSETFROM:+1100
TZOFFSETTO:+1000
TZNAME:AEST
DTSTART:20260404T160000
END:STANDARD
BEGIN:DAYLIGHT
TZOFFSETFROM:+1000
TZOFFSETTO:+1100
TZNAME:AEDT
DTSTART:20261003T160000
END:DAYLIGHT
END:VTIMEZONE
BEGIN:VEVENT
DTSTART;VALUE=DATE:20250128
DTEND;VALUE=DATE:20250202
DTSTAMP:20260422T013455
CREATED:20241202T094204Z
LAST-MODIFIED:20241202T094204Z
UID:14211-1738022400-1738454399@guidetogay.com
SUMMARY:Tony Hadley (ex Spandau Ballet) Headline Tour
DESCRIPTION:TONY HADLEY\, former lead singer from one the biggest bands of the 1980s\, Spandau Ballet\, has announced 3 headline shows in Adelaide\, Hobart and Perth. Fans will hear all the Spandau Ballet hits – including True\, Gold\, Only When You Leave\, Round & Round and more\, plus solo material from across Tony’s career when he performs with his band\, The Fabulous TH Band. \nTue 28 January 2025                      The Gov\, Adelaide\nThu 30 January 2025                      Odeon Theatre\, Hobart\nSat 1 Feb 2025                                Astor Theatre\, Perth \nEarly bird pre-sale tickets start Wednesday 9 October\, 9am local time via  https://daltours.cc/tonyhadley.  General on sale from Friday 11 October\, 9am local time. \n“Australia is one of my favourite places to perform.I can’t wait to get back with The Fabulous TH band and perform in front of fans and friends once more”.  \nIt has been over forty years since Tony Hadley first released music with his former band\, Spandau Ballet. From his beginnings at the forefront of the New Romantic movement\, Tony earned himself the accolade of being one of pop’s greatest vocalists. Spandau Ballet had numerous chart-topping singles and albums all over the world\, including the epic Through the Barricades\, the international number one True\, and the unofficial London Olympics theme\, Gold. \nAs a solo artist Tony has performed across the world both with his band\, swing bands\, and orchestras. In 2005 he was awarded a Gold Badge from the British Academy of Composers and Songwriters; whilst 2007 saw him win a new legion of fans when he appeared as Billy Flynn in Chicago on the West End stage. \nIn 2018 Tony released Talking To The Moon\, The album was incredibly well received\, became BBC Radio 2’s Album Of The Week and the 1st single Tonight Belongs To Us was Single Of The Week.  In early 2024 he returned to his love of swing music and released The Mood I’m In – featuring songs from his 2007 album Passing Strangers\, remastered them and added 5 additional tracks including a new song ‘Walk Of Shame’. \nIn 2019 he was awarded an MBE in the Queen’s New Year Honours List for his services to charity. \nDon’t miss your chance to hear some of the best songs from the 80s performed by one of the best singers of the time! \nEarly bird pre-sale tickets start Wednesday 9 October\, 9am local time.\nGeneral on sale from Friday 11 October\, 9am local time.   \nTICKETS AVAILABLE VIA https://www.destroyalllines.com/. \nDestroy All Lines Presents\nTONY HADLEY AUSTRALIAN TOUR 2025 \nTue 28 January 2025                      The Gov\, Adelaide\nThu 30 January 2025                      Odeon Theatre\, Hobart\nSat 1 Feb 2025                                Astor Theatre\, Perth
URL:https://guidetogay.com/event/tony-hadley-ex-spandau-ballet-headline-tour/
CATEGORIES:Concert
ATTACH;FMTTYPE=image/jpeg:https://guidetogay.com/wp-content/uploads/2024/12/f30621e7-c0bc-e9ca-d1de-5a763be873a2.jpg
END:VEVENT
END:VCALENDAR