BEGIN:VCALENDAR
VERSION:2.0
PRODID:-//GUIDETOGAY.COM - ECPv6.15.20//NONSGML v1.0//EN
CALSCALE:GREGORIAN
METHOD:PUBLISH
X-ORIGINAL-URL:https://guidetogay.com
X-WR-CALDESC:Events for GUIDETOGAY.COM
REFRESH-INTERVAL;VALUE=DURATION:PT1H
X-Robots-Tag:noindex
X-PUBLISHED-TTL:PT1H
BEGIN:VTIMEZONE
TZID:Australia/Sydney
BEGIN:STANDARD
TZOFFSETFROM:+1100
TZOFFSETTO:+1000
TZNAME:AEST
DTSTART:20200404T160000
END:STANDARD
BEGIN:DAYLIGHT
TZOFFSETFROM:+1000
TZOFFSETTO:+1100
TZNAME:AEDT
DTSTART:20201003T160000
END:DAYLIGHT
BEGIN:STANDARD
TZOFFSETFROM:+1100
TZOFFSETTO:+1000
TZNAME:AEST
DTSTART:20210403T160000
END:STANDARD
BEGIN:DAYLIGHT
TZOFFSETFROM:+1000
TZOFFSETTO:+1100
TZNAME:AEDT
DTSTART:20211002T160000
END:DAYLIGHT
BEGIN:STANDARD
TZOFFSETFROM:+1100
TZOFFSETTO:+1000
TZNAME:AEST
DTSTART:20220402T160000
END:STANDARD
BEGIN:DAYLIGHT
TZOFFSETFROM:+1000
TZOFFSETTO:+1100
TZNAME:AEDT
DTSTART:20221001T160000
END:DAYLIGHT
BEGIN:STANDARD
TZOFFSETFROM:+1100
TZOFFSETTO:+1000
TZNAME:AEST
DTSTART:20230401T160000
END:STANDARD
BEGIN:DAYLIGHT
TZOFFSETFROM:+1000
TZOFFSETTO:+1100
TZNAME:AEDT
DTSTART:20230930T160000
END:DAYLIGHT
BEGIN:STANDARD
TZOFFSETFROM:+1100
TZOFFSETTO:+1000
TZNAME:AEST
DTSTART:20240406T160000
END:STANDARD
BEGIN:DAYLIGHT
TZOFFSETFROM:+1000
TZOFFSETTO:+1100
TZNAME:AEDT
DTSTART:20241005T160000
END:DAYLIGHT
BEGIN:STANDARD
TZOFFSETFROM:+1100
TZOFFSETTO:+1000
TZNAME:AEST
DTSTART:20250405T160000
END:STANDARD
BEGIN:DAYLIGHT
TZOFFSETFROM:+1000
TZOFFSETTO:+1100
TZNAME:AEDT
DTSTART:20251004T160000
END:DAYLIGHT
END:VTIMEZONE
BEGIN:VEVENT
DTSTART;TZID=Australia/Sydney:20240511T190000
DTEND;TZID=Australia/Sydney:20240511T220000
DTSTAMP:20260425T002645
CREATED:20240421T233234Z
LAST-MODIFIED:20240421T234010Z
UID:13643-1715454000-1715464800@guidetogay.com
SUMMARY:Sydney Convicts: Rugger Bugger World Tour Fundraiser
DESCRIPTION:Your inflight entertainment has arrived!\nRugger Bugger is back on Saturday 11th May – and boarding has commenced. \nSydney Convicts are going on a WORLD TOUR – taking over the cockpit & taking flight to cities far and wide.  From the chav streets of London\, to the cowboys of Nashville\, and landing amongst the oily gladiators of Rome.  Join us for a night you wont soon forget\, as our rugby boys from across the globe ditch their passports & reveal what’s under their tray tables.\nExperience the heat as these players step into the spotlight\, guaranteeing an unforgettable evening that will leave you hot under the collar and reaching for the emergency oxygen. \nThe night will be filled with live DJ’s\, Drag Queens\, Gogo Boys and of course\, our boys taking it all off to help raise funds for our upcoming battle in Italy.\nTickets include access to Universal’s “Deja VU”\, commencing at the conclusion of the show – please note there is no pass outs offered upon exit.\nMark your calendars! Doors open at 7pm\, and remember\, this is an 18+ event only. Don’t miss out on the opportunity to support a great cause while indulging in a night of entertainment you won’t soon forget.
URL:https://guidetogay.com/event/sydney-convicts-rugger-bugger-world-tour-fundraiser/
LOCATION:Universal Sydney\, 85-91 Oxford Street\, Darlinghurst\, NSW\, 2010
CATEGORIES:Fundraiser,Nightclub,Sport
ATTACH;FMTTYPE=image/png:https://guidetogay.com/wp-content/uploads/2024/04/2a686851-c426-b8dc-8db6-a385490f660c.png
END:VEVENT
BEGIN:VEVENT
DTSTART;VALUE=DATE:20230901
DTEND;VALUE=DATE:20230911
DTSTAMP:20260425T002645
CREATED:20230123T231423Z
LAST-MODIFIED:20230327T024317Z
UID:12057-1693526400-1694390399@guidetogay.com
SUMMARY:Gay Ski Week Australia
DESCRIPTION:The 13th Gay Ski Week Australia runs from Friday 1st September to Sunday 10th September at Falls Creek.  \nTwo fabulous weekends delivering ten days of frosty Alpine fun and nine nice and slightly naughty nights of entertainment. \nDaily events\, après and social skiing and boarding are packed into the programme; there is plenty of hot action on and off the slopes. Stay on-mountain and enjoy some of the best natural snow conditions in Australia\, plus a great group of people to snow with. Book into our host lodge and be right in the middle of all the action! \nFrock Hudson will be back at the helm of our incredible entertainment program and they will be joined by a swag of queer performers and entertainers. There will be laughs galore\, plenty of karaoke\, and the Winter Onsesieland Party will be back\, along with our late night piano bar. And that’s just for starters! \nGuests can enjoy weekend stays across either of our two weekends\, or grab our big package and take in all we have to offer. We’ve got ten days\, two weekends\, around 250 beds on hold and over fifty events and scheduled activities planned right across the trip (with more to be added)\, all creating our uniquely Australian Alpine adventure! Come and join us! \nWe are currently working with our stakeholders to secure rates and access for our group. We then need to update our website and store information.  \nWe plan on releasing our host lodge accommodation before Christmas so you can secure your comfortable bed\, before releasing the full program later the following month. \nWe will keep you updated. Make sure you pop your email in below so we can email you when things change. \nSki in and ski OUT with pride! \nPoints Of Difference at the 2023 Midsummer Festival. photo: Davey Lee
URL:https://guidetogay.com/event/gay-ski-week-australia/
LOCATION:Falls Creek\, 1 Slalom Street\, Falls Creek\, VIC\, 3699\, Australia
CATEGORIES:Festival,Pride Event,Sport,Tours / Cruises / Vacations
ATTACH;FMTTYPE=image/jpeg:https://guidetogay.com/wp-content/uploads/2023/01/Gay-Ski-Week-Australia-Falls-Creek-Rainbow-Run-IMG_0067.jpg
ORGANIZER;CN="Points of Difference Events Pty Ltd.":MAILTO:askus@pointsofdifference.com
END:VEVENT
BEGIN:VEVENT
DTSTART;VALUE=DATE:20220623
DTEND;VALUE=DATE:20220627
DTSTAMP:20260425T002645
CREATED:20220514T012441Z
LAST-MODIFIED:20220514T012441Z
UID:11741-1655942400-1656287999@guidetogay.com
SUMMARY:Darwin Pride 2022
DESCRIPTION:In 1985\, a group of passionate Darwinites came together to create the very first Darwin Pride Festival – promoting diversity\, equality and celebrating LGBTQIA+ communities. These brave individuals shined the spotlight on issues that needed to change and celebrated what already made us shine. Over three decades on\, we’re continuing what they began. \nIn 2019\, Darwin Pride became an incorporated association for the purposes of: \n  \n\nprogram  and  facilitate  events  throughout  the  year  which  meet  the  needs  of  the  LGBTQIA+ community liaise with government\, community groups and members of the public to understand and meet the needs of the LGBTQIA+ community and the broader community as appropriate\nfundraise and utilise available grants to provide the above services\ndonate to causes and events which we believe supports the ethos\, objects and purposes of the Association\n\n  \nTop End Pride is run by volunteers who are passionate about equality\, and diversity. We meet on a regular basis to plan and coordinate events and to work closely with local Government bodies to ensure we have our voices heard for future generations. \nIt is our mission to continue to raise awareness within our community and campaign for freedoms that will allow our people to live their lives on a genuinely equal footing. \nDarwin Pride (NT) Inc\, rebrand to Top End Pride (NT) Inc. \nAt the 2020 Annual General Meeting\, the members of Darwin Pride (NT) Incorporated discussed and agreed to rename and rebrand the organisation to Top End Pride (NT) Incorporated.  The new logo was launched in 2021. \nThe Committee chose this design for the following reasons: \n*The first notable piece of the art work is the outline of the Northern Territory as it identifies us being from this great land. \n*The colours of Pride are diverse and we decided to include such colours which also represent our spectacular sunsets seen here in the Northern Territory. \n*As the Brolga can often be seen in the stunning parks of Northern Territory\, we decided to have this great crane as a feature of our logo. \n 
URL:https://guidetogay.com/event/darwin-pride-2022/
LOCATION:NSW
CATEGORIES:Cabaret,Family Friendly,Festival,Food & Beverage Experiences,Pride Event,Pride Parade,Rally,Special Day,Sport
ATTACH;FMTTYPE=image/webp:https://guidetogay.com/wp-content/uploads/2022/05/darwinpride.webp
END:VEVENT
BEGIN:VEVENT
DTSTART;TZID=Australia/Sydney:20220522T130000
DTEND;TZID=Australia/Sydney:20220522T150000
DTSTAMP:20260425T002645
CREATED:20220505T235751Z
LAST-MODIFIED:20220505T235751Z
UID:11730-1653224400-1653231600@guidetogay.com
SUMMARY:IDAHOBIT Softball Game
DESCRIPTION:Barebatters Softball Team will be running a softball beginners workshop and social game in recognition of International Day Against Homo/Bi/Trans Phobia\, and would love you and your guests to come along and support pride and visibility in sport!\nEquipment and training will be provided\, but there are limited places\, so please RSVP via the link below to secure your spot! \nWe will start 1pm at the field next to the Gough Whitlam Carpark\, it’s walking distance from Tempe Train Station\, and has access to toilets/water. Please be sunsafe and bring some water. \nWe look forward to sharing a fun friendly afternoon of social softball with all of you
URL:https://guidetogay.com/event/idahobit-softball-game/
LOCATION:Gough Whitkam Park\, Bayview Ave\, Earlwood\, NSW\, 2206\, Australia
CATEGORIES:Sport
ATTACH;FMTTYPE=image/jpeg:https://guidetogay.com/wp-content/uploads/2022/05/126951422_10160146278108273_3835940047160252596_n-1.jpeg
END:VEVENT
BEGIN:VEVENT
DTSTART;TZID=Australia/Sydney:20210619T130000
DTEND;TZID=Australia/Sydney:20210619T143000
DTSTAMP:20260425T002645
CREATED:20210529T004911Z
LAST-MODIFIED:20210529T004911Z
UID:8570-1624107600-1624113000@guidetogay.com
SUMMARY:Sydney LGBTIQ allied softball training/social game
DESCRIPTION:As we are halfway through the softball off-season\, definately overdue for some skills training and a friendly social game! This is not an Outfielders workshop\, so please invite guests/friends to come\, everyone must respond to the event as GOING for planning purposes and use the COVID19 register on the day to play; venue may change so stay tuned to announcements.
URL:https://guidetogay.com/event/sydney-lgbtiq-allied-softball-training-social-game/
LOCATION:Goff Whitlam Park\, Bayview Ave.\, Earlwood\, NSW\, 2206\, Australia
CATEGORIES:Sport
ATTACH;FMTTYPE=image/jpeg:https://guidetogay.com/wp-content/uploads/2021/05/bensoftball.jpeg
END:VEVENT
END:VCALENDAR