BEGIN:VCALENDAR
VERSION:2.0
PRODID:-//GUIDETOGAY.COM - ECPv6.15.20//NONSGML v1.0//EN
CALSCALE:GREGORIAN
METHOD:PUBLISH
X-WR-CALNAME:GUIDETOGAY.COM
X-ORIGINAL-URL:https://guidetogay.com
X-WR-CALDESC:Events for GUIDETOGAY.COM
REFRESH-INTERVAL;VALUE=DURATION:PT1H
X-Robots-Tag:noindex
X-PUBLISHED-TTL:PT1H
BEGIN:VTIMEZONE
TZID:Australia/Sydney
BEGIN:STANDARD
TZOFFSETFROM:+1100
TZOFFSETTO:+1000
TZNAME:AEST
DTSTART:20230401T160000
END:STANDARD
BEGIN:DAYLIGHT
TZOFFSETFROM:+1000
TZOFFSETTO:+1100
TZNAME:AEDT
DTSTART:20230930T160000
END:DAYLIGHT
BEGIN:STANDARD
TZOFFSETFROM:+1100
TZOFFSETTO:+1000
TZNAME:AEST
DTSTART:20240406T160000
END:STANDARD
BEGIN:DAYLIGHT
TZOFFSETFROM:+1000
TZOFFSETTO:+1100
TZNAME:AEDT
DTSTART:20241005T160000
END:DAYLIGHT
BEGIN:STANDARD
TZOFFSETFROM:+1100
TZOFFSETTO:+1000
TZNAME:AEST
DTSTART:20250405T160000
END:STANDARD
BEGIN:DAYLIGHT
TZOFFSETFROM:+1000
TZOFFSETTO:+1100
TZNAME:AEDT
DTSTART:20251004T160000
END:DAYLIGHT
END:VTIMEZONE
BEGIN:VEVENT
DTSTART;TZID=Australia/Sydney:20240706T170000
DTEND;TZID=Australia/Sydney:20240706T233000
DTSTAMP:20260421T154726
CREATED:20240416T025433Z
LAST-MODIFIED:20240416T025433Z
UID:13592-1720285200-1720308600@guidetogay.com
SUMMARY:Heaven Social Dance - Charity Night
DESCRIPTION:06 July 2024 ~  17th Birthday/89.3fm Charity Night $20 + BF \nwith all proceeds from tickets going directly to community radio 89.3fm 2glf \n\n\n+ A Booking Fee & Tickets are non-refundable Unless Canceled\nONLINE TICKETS CLOSES ON FRIDAY AT 4 PM ON THE DAY BEFORE THE DANCE – UNLESS SOLD OUT PRIOR THE DANCE\n$30 DOLLARS CASH ON THE DOOR if not sold out please note you may not get a seat sms on the day for more 0433232425
URL:https://guidetogay.com/event/heaven-social-dance-charity-night/
LOCATION:Lansvale United Sports Club\, 21 Shorland St\, Canley Vale\, NSW\, 2166\, Australia
CATEGORIES:Drag Show / Tour / Concert,Fundraiser,Nightclub,Social Dance / Mixer
ATTACH;FMTTYPE=image/jpeg:https://guidetogay.com/wp-content/uploads/2024/04/heaven.jpeg
END:VEVENT
END:VCALENDAR