BEGIN:VCALENDAR
VERSION:2.0
PRODID:-//GUIDETOGAY.COM - ECPv6.15.20//NONSGML v1.0//EN
CALSCALE:GREGORIAN
METHOD:PUBLISH
X-WR-CALNAME:GUIDETOGAY.COM
X-ORIGINAL-URL:https://guidetogay.com
X-WR-CALDESC:Events for GUIDETOGAY.COM
REFRESH-INTERVAL;VALUE=DURATION:PT1H
X-Robots-Tag:noindex
X-PUBLISHED-TTL:PT1H
BEGIN:VTIMEZONE
TZID:Australia/Sydney
BEGIN:STANDARD
TZOFFSETFROM:+1100
TZOFFSETTO:+1000
TZNAME:AEST
DTSTART:20230401T160000
END:STANDARD
BEGIN:DAYLIGHT
TZOFFSETFROM:+1000
TZOFFSETTO:+1100
TZNAME:AEDT
DTSTART:20230930T160000
END:DAYLIGHT
BEGIN:STANDARD
TZOFFSETFROM:+1100
TZOFFSETTO:+1000
TZNAME:AEST
DTSTART:20240406T160000
END:STANDARD
BEGIN:DAYLIGHT
TZOFFSETFROM:+1000
TZOFFSETTO:+1100
TZNAME:AEDT
DTSTART:20241005T160000
END:DAYLIGHT
BEGIN:STANDARD
TZOFFSETFROM:+1100
TZOFFSETTO:+1000
TZNAME:AEST
DTSTART:20250405T160000
END:STANDARD
BEGIN:DAYLIGHT
TZOFFSETFROM:+1000
TZOFFSETTO:+1100
TZNAME:AEDT
DTSTART:20251004T160000
END:DAYLIGHT
END:VTIMEZONE
BEGIN:VEVENT
DTSTART;TZID=Australia/Sydney:20240511T190000
DTEND;TZID=Australia/Sydney:20240511T233000
DTSTAMP:20260422T101121
CREATED:20240416T013836Z
LAST-MODIFIED:20240416T013836Z
UID:13555-1715454000-1715470200@guidetogay.com
SUMMARY:Polly's Social Club - Slumber Party
DESCRIPTION:Since 1964\, the Pollys Club has been providing an inclusive\, safe\, fun and friendly community dance space thus helping to address social isolation in the LGBTIQA+ community. \n  \nDoors open at 7pm for a dance set which is a meander through the decades. This is followed by the 30-45 minute themed amateur drag show from 9:30pm. The second dance set is more mixed but still retro\, still dancy and still fabulous. \n  \nYou may BYO food and drink or purchase drinks and a snack from our bar. Lucky door and best costume prizes so come as you please or dress to theme. \n  \nJoin us for “Slumber Party” from 7pm on Saturday 11th May 2024 at Marrickville Town Hall.
URL:https://guidetogay.com/event/pollys-social-club-slumber-party/
LOCATION:Marrickville Town Hall\, 303 Marrickville Road\, Marrickville\, NSW\, 2204
CATEGORIES:Dance Party,Drag Show / Tour / Concert,Social Dance / Mixer
ATTACH;FMTTYPE=image/jpeg:https://guidetogay.com/wp-content/uploads/2024/04/pollysslumberparty.jpeg
END:VEVENT
END:VCALENDAR