BEGIN:VCALENDAR
VERSION:2.0
PRODID:-//GUIDETOGAY.COM - ECPv6.15.20//NONSGML v1.0//EN
CALSCALE:GREGORIAN
METHOD:PUBLISH
X-ORIGINAL-URL:https://guidetogay.com
X-WR-CALDESC:Events for GUIDETOGAY.COM
REFRESH-INTERVAL;VALUE=DURATION:PT1H
X-Robots-Tag:noindex
X-PUBLISHED-TTL:PT1H
BEGIN:VTIMEZONE
TZID:Australia/Sydney
BEGIN:STANDARD
TZOFFSETFROM:+1100
TZOFFSETTO:+1000
TZNAME:AEST
DTSTART:20210403T160000
END:STANDARD
BEGIN:DAYLIGHT
TZOFFSETFROM:+1000
TZOFFSETTO:+1100
TZNAME:AEDT
DTSTART:20211002T160000
END:DAYLIGHT
BEGIN:STANDARD
TZOFFSETFROM:+1100
TZOFFSETTO:+1000
TZNAME:AEST
DTSTART:20220402T160000
END:STANDARD
BEGIN:DAYLIGHT
TZOFFSETFROM:+1000
TZOFFSETTO:+1100
TZNAME:AEDT
DTSTART:20221001T160000
END:DAYLIGHT
BEGIN:STANDARD
TZOFFSETFROM:+1100
TZOFFSETTO:+1000
TZNAME:AEST
DTSTART:20230401T160000
END:STANDARD
BEGIN:DAYLIGHT
TZOFFSETFROM:+1000
TZOFFSETTO:+1100
TZNAME:AEDT
DTSTART:20230930T160000
END:DAYLIGHT
BEGIN:STANDARD
TZOFFSETFROM:+1100
TZOFFSETTO:+1000
TZNAME:AEST
DTSTART:20240406T160000
END:STANDARD
BEGIN:DAYLIGHT
TZOFFSETFROM:+1000
TZOFFSETTO:+1100
TZNAME:AEDT
DTSTART:20241005T160000
END:DAYLIGHT
BEGIN:STANDARD
TZOFFSETFROM:+1100
TZOFFSETTO:+1000
TZNAME:AEST
DTSTART:20250405T160000
END:STANDARD
BEGIN:DAYLIGHT
TZOFFSETFROM:+1000
TZOFFSETTO:+1100
TZNAME:AEDT
DTSTART:20251004T160000
END:DAYLIGHT
END:VTIMEZONE
BEGIN:VEVENT
DTSTART;TZID=Australia/Sydney:20231231T200000
DTEND;TZID=Australia/Sydney:20240101T020000
DTSTAMP:20260426T001502
CREATED:20230327T034711Z
LAST-MODIFIED:20230327T034711Z
UID:12603-1704052800-1704074400@guidetogay.com
SUMMARY:Celebration NYE 23/24 Sydney
DESCRIPTION:The best LGBT+ New Year’s Eve party on Sydney Harbour. A ‘bucket-list’ event.\nJoin our gorgeous crowd of international and local guests\, share the incredible experience\, and say hello to Twenty-Twenty-Four!  \n“Celebration NYE23/24” is an all-inclusive\, fabulously exclusive\, wonderfully private party for all our LGBT+ family\, in exuberant Points of Difference Travel & Events style. \nIn 2023 we celebrate our thirteenth lucky year hosting this sparkling LGBT+ fireworks event in Circular Quay\, on top of the stunning rooftop Sculpture Terrace at the Museum of Contemporary Art Australia.
URL:https://guidetogay.com/event/celebration-nye-23-24-sydney/
LOCATION:MCA Cafe & Sculpture Terrace\, L4/140 George Street\, Sydney\, NSW\, 2000\, Australia
CATEGORIES:Food & Beverage Experiences,NYE
ATTACH;FMTTYPE=image/jpeg:https://guidetogay.com/wp-content/uploads/2023/03/o_Gay-NYE-Sydney-Rob-Davis-20221231_200526_1900x856-1024x461-1.jpg
ORGANIZER;CN="Points of Difference Events Pty Ltd.":MAILTO:askus@pointsofdifference.com
END:VEVENT
BEGIN:VEVENT
DTSTART;TZID=Australia/Sydney:20230415T170000
DTEND;TZID=Australia/Sydney:20230415T230000
DTSTAMP:20260426T001502
CREATED:20230327T023334Z
LAST-MODIFIED:20230327T023334Z
UID:12589-1681578000-1681599600@guidetogay.com
SUMMARY:ORIGAMI
DESCRIPTION:Folding Art & Sound\n\n\n\nLive Music – Mesmerising Light & Visual Projection – DJs – Site specific performance art\nSaturday\, April 15\, 2023 | 5:00 pm\n  \nGarden comes alive with Colour\, Art and Sound. \n  \nGarden Art Party to engage your senses in an audio-visual feast across multiple spaces in the Edogawa Commemorative Garden. \n  \nDance inside a traditional Japanese teahouse\, \nStroll meandering pathways\, \nTake in live music at the Japanese Pavilion\, \nImmerse yourself in the dry-stone garden live performances or just sit in nature & connect with mates. \nJoin projection & performing artists\, music makers & food curators \n  \nBring your festival seating\, lawn furniture and settle in to experience light\, sound & live performance behind a setting Gossy sun. \n  \nFEATURING\n  \nDJ DUO STEREOGAMOUS\nMusic industry legends Paul Mac and Jonny Seymour have remixed or collaborated with Kylie Minogue\, George Michael\, Sia\, Sam Sparro\, LCD Soundsystem\, Beni\, The Presets \n  \nVJ DUO\nDavid Hoare – Creative Projection Artist\, Crafting and delivering extraordinary experiences with lighting\, visual content and storytelling captivating audiences from Vivid to Londoner Light & Sound Spectacular. Thomas Pullar – Visual Artist pushing pixels has allowed them to create content for every canvas imaginable\, blending 3D\, composition and for mesmerising visual displays. \n  \nLIVE MUSIC\n  \nSTRANGE PARADISE QUARTET\nUnique blend of cinematic noir-jazz\, tiki\, and blues with Twin Peaks-themed music in remembrance of the recently departed film composer Angelo Badalamenti. \n\n  \nIMBI & THEIR BAND DEAD DRIVE \nMultidisciplinary Imbi is an Australian singer-songwriter\, featured artist on Esoterik’s 2018 single “Wide Awake”\, nominated for the 2018 ARIA Award for Best Urban Release\, winner of the Triple J Unearthed\, 2019 nominated for Live Voice of the Year (NSW) at the National Live Music Awards. \n\n  \nDYAN TAI\nBlend of electronic music influenced by Asian instrumentation and culture; sonically paired with expansive androgynous lithe vocals which have evolved into unique pop vibe. Selected for the prestigious Generations Fellowship by Create NSW\, Powerhouse Museum\, presenter on FBI Radio\, nominated for a 2022 Honour Award in “Arts and Entertainment\, \n  \n  \nPERFORMANCE\n  \nCANOE\nBlake Lawrence is an interdisciplinary artist working across photography\, video\, performance and ceremony. Drawing on the performative potential of materials \n  \nGLITTA SUPERNOVA\nMulti award winning producer\, performer and creative director who has made a career challenging “the norm” and reflecting on societal taboo & homogenization of culture. \n  \n­­­DRESS FOR A GARDEN PARTY\, PLANT COUTURE\, GARDEN GNOMES\, FLOWERS IN YOUR HAIR\, PAPER OUTFITS & ACCESSORIES \n  \n  \nPOP UP BAR & FOOD\n  \nEnjoy our full Bar and nibbles. \nSTRICTLY NO BYO \n18+ \n  \nThe Honest Cook Home of Lily’s chillies  will be cooking Traditional Sichuan dumpling\, All hand made Dumplings on the night using only Australian prawns\, beef\, pork\, chicken and lamb sourced from Hunter Valley farm. Additional Pork belly Bao and Vegan tofu Bao buns also avaliable with Lilys famous Mayo! \n  \n  \n  \nOutdoor event in the beautiful Edogawa Garden\, Gosford Regional Gallery \nRain\, Hail or Shine (we will take over the Gosford Regional Gallery should it rain) \n 
URL:https://guidetogay.com/event/origami/
LOCATION:Gosford Regional Gallery\, 36 Webb St\, East Gosford\, NSW\, 2250\, Australia
CATEGORIES:Art,Festival,Food & Beverage Experiences
ATTACH;FMTTYPE=image/jpeg:https://guidetogay.com/wp-content/uploads/2023/03/NN_Origami_web-banner_1-copy.jpg
END:VEVENT
BEGIN:VEVENT
DTSTART;TZID=Australia/Sydney:20221231T200000
DTEND;TZID=Australia/Sydney:20230101T013000
DTSTAMP:20260426T001502
CREATED:20221004T003012Z
LAST-MODIFIED:20221004T003012Z
UID:11972-1672516800-1672536600@guidetogay.com
SUMMARY:Celebration NYE 22/23
DESCRIPTION:CELEBRATION NYE – NOW ON SALE!\n\nLooking for the best views of the Sydney New Year’s Eve fireworks? Want to party in a safe space with like-minded people and be wined and dined all night long?\n\nAre you ready to say goodbye to Twenty Twenty-Two?\n\nWe’re back and this year marks our twelfth sparkling LGBT+ fireworks event in Circular Quay\, on top of the stunning rooftop Sculpture Terrace at the Museum of Contemporary Art Australia.\n\n“Celebration NYE22/23” is an all-inclusive\, fabulously exclusive\, wonderfully private party for all our LGBT+ family and friends\, in exuberant Points of Difference Travel & Events style.\n\nWith a strictly limited capacity of only 300 tickets\, you don’t want to miss out on what is now known as the “The best LGBT+ New Year’s Eve party on Sydney Harbour”.\n\nEnjoy a delicious 6-hour food and beverage package with French Champagne on arrival. Groove to the tunes from DJ’s Mark Alsop MA 15+ and Rob Davis. These two stalwarts of the Sydney DJ scene will combine for an amazing tête-à-tête set that will put a smile on your face! We will also be piping in live the official soundtrack to both the 9pm and midnight fireworks\, so you get to enjoy the full audio-visual experience!\n\nOur DJ’s are but the tip of the iceberg\, and they will be aided and abetted in their entertainment duties by the incomparable Frock Hudson as our MC. In addition to belting out a few choice tunes during the evening\, Frock will also keep you up to date on the evening’s festivities and happenings on the harbour\, and the Gourmet Mac and Cheese station!\n\nSo join us in your best white outfit\, party like it’s Nineteen Ninety-Nine and kiss Twenty Twenty-Two GOODBYE!
URL:https://guidetogay.com/event/celebration-nye-22-23/
LOCATION:MCA Cafe & Sculpture Terrace\, L4/140 George Street\, Sydney\, NSW\, 2000\, Australia
CATEGORIES:Dance Party,Food & Beverage Experiences
ATTACH;FMTTYPE=image/jpeg:https://guidetogay.com/wp-content/uploads/2022/10/celebrationnye.jpeg
ORGANIZER;CN="Points of Difference Events Pty Ltd.":MAILTO:askus@pointsofdifference.com
END:VEVENT
BEGIN:VEVENT
DTSTART;TZID=Australia/Sydney:20220924T123000
DTEND;TZID=Australia/Sydney:20220924T153000
DTSTAMP:20260426T001502
CREATED:20220620T220142Z
LAST-MODIFIED:20220620T220142Z
UID:11904-1664022600-1664033400@guidetogay.com
SUMMARY:Leather Mens Long Table Lunch.
DESCRIPTION:Leather Mens Long Table Lunch is presented by Sydney Leathermen (SLM) during the Sydney Fetish Week 2022 (SFW22).\n\nThis will be a long table across the beer garden of the beresford hotel\, a table filled with 30 Leathermen in standard SLM Leather Dress Code* celebrating Sydney Fetish Week and Visibility in Gear.\n\nWhile SLM would generally like to avoid money changing hands\, this type of event and the possibility people could not turn up means we need commitment and also due to the limited availability of spaces we have created a ticket system for $10.\n\nThe Ticket Price Guarantees Your Seat At The Long Table as One of Currently 30 Leathermen And A First Drink Card (The $10 Charge Also Includes The Fees for Humanatix)\n\nDuring The Leather Mens Long Table Lunch You Will Order Your Own Food & Drinks At Your Own Expense From the Table By Phone App or At The Bar.\n\nTickets Are Non Refundable For Failure to Show or Cancellations Within 48 Hours.
URL:https://guidetogay.com/event/leather-mens-long-table-lunch/
LOCATION:The Beresford Hotel\, 354 Bourke Street\, Surry Hills\, NSW\, 2010\, Australia
CATEGORIES:Food & Beverage Experiences
ATTACH;FMTTYPE=image/jpeg:https://guidetogay.com/wp-content/uploads/2022/06/long-table-lunch.jpeg
END:VEVENT
BEGIN:VEVENT
DTSTART;VALUE=DATE:20220623
DTEND;VALUE=DATE:20220627
DTSTAMP:20260426T001502
CREATED:20220514T012441Z
LAST-MODIFIED:20220514T012441Z
UID:11741-1655942400-1656287999@guidetogay.com
SUMMARY:Darwin Pride 2022
DESCRIPTION:In 1985\, a group of passionate Darwinites came together to create the very first Darwin Pride Festival – promoting diversity\, equality and celebrating LGBTQIA+ communities. These brave individuals shined the spotlight on issues that needed to change and celebrated what already made us shine. Over three decades on\, we’re continuing what they began. \nIn 2019\, Darwin Pride became an incorporated association for the purposes of: \n  \n\nprogram  and  facilitate  events  throughout  the  year  which  meet  the  needs  of  the  LGBTQIA+ community liaise with government\, community groups and members of the public to understand and meet the needs of the LGBTQIA+ community and the broader community as appropriate\nfundraise and utilise available grants to provide the above services\ndonate to causes and events which we believe supports the ethos\, objects and purposes of the Association\n\n  \nTop End Pride is run by volunteers who are passionate about equality\, and diversity. We meet on a regular basis to plan and coordinate events and to work closely with local Government bodies to ensure we have our voices heard for future generations. \nIt is our mission to continue to raise awareness within our community and campaign for freedoms that will allow our people to live their lives on a genuinely equal footing. \nDarwin Pride (NT) Inc\, rebrand to Top End Pride (NT) Inc. \nAt the 2020 Annual General Meeting\, the members of Darwin Pride (NT) Incorporated discussed and agreed to rename and rebrand the organisation to Top End Pride (NT) Incorporated.  The new logo was launched in 2021. \nThe Committee chose this design for the following reasons: \n*The first notable piece of the art work is the outline of the Northern Territory as it identifies us being from this great land. \n*The colours of Pride are diverse and we decided to include such colours which also represent our spectacular sunsets seen here in the Northern Territory. \n*As the Brolga can often be seen in the stunning parks of Northern Territory\, we decided to have this great crane as a feature of our logo. \n 
URL:https://guidetogay.com/event/darwin-pride-2022/
LOCATION:NSW
CATEGORIES:Cabaret,Family Friendly,Festival,Food & Beverage Experiences,Pride Event,Pride Parade,Rally,Special Day,Sport
ATTACH;FMTTYPE=image/webp:https://guidetogay.com/wp-content/uploads/2022/05/darwinpride.webp
END:VEVENT
BEGIN:VEVENT
DTSTART;TZID=Australia/Sydney:20220618T183000
DTEND;TZID=Australia/Sydney:20220618T213000
DTSTAMP:20260426T001502
CREATED:20220424T034934Z
LAST-MODIFIED:20220424T034934Z
UID:11707-1655577000-1655587800@guidetogay.com
SUMMARY:Katherine Pride 2022: Dine with Pride
DESCRIPTION:LET’S EAT TOGETHER\nFriends & family\nDinner & drinks\nDress fabulous\nLight entertainment\nGorgeous night sky \nThree Course Meal
URL:https://guidetogay.com/event/katherine-pride-2022-dine-with-pride/
LOCATION:KUMBIDGEE RESTAURANT\, 595 Gorge Rd\, Katherine\, NT\, 0851\, Australia
CATEGORIES:Food & Beverage Experiences,Pride Event
ATTACH;FMTTYPE=image/jpeg:https://guidetogay.com/wp-content/uploads/2022/04/278682038_7721395384599579_2027204066272483276_n.jpeg
END:VEVENT
BEGIN:VEVENT
DTSTART;TZID=Australia/Sydney:20220228T180000
DTEND;TZID=Australia/Sydney:20220228T213000
DTSTAMP:20260426T001502
CREATED:20220217T023854Z
LAST-MODIFIED:20220217T023854Z
UID:10600-1646071200-1646083800@guidetogay.com
SUMMARY:The Fetish Feast presents Dean Arcuri\, “To Sir with Glove”
DESCRIPTION:The Fetish Feast is an opportunity to gear up in your chosen fetish or flavour and mix with other interested kinksters in a safe space. Whilst this is a sex-positive event\, it is not an SOP venue and guests will be sharing the venue with other members of the community. If in doubt about what you can wear\, just ask us. \nConnect with your tribe.\nDiscover. Meet. Eat. \nOnce again we slip into Claire’s Kitchen at la Salon on Oxford Street for an amazing French Feast! \nMeet your fellow dinners\, grab a drink and settle in. A stunning three-course set menu with choice is presented to you. Fabulous entree and mains\, plus two fabulous sets of kinky cabaret\, served up to you. \nOrder your own drinks\, but enjoy the included dessert selection of mouth-watering bites! After dinner\, we will head to The Eagle SYD (additional entry ticket TBA) for nightcaps and cruising! \nCompliance is encouraged not enforced.
URL:https://guidetogay.com/event/the-fetish-feast-presents-dean-arcuri-to-sir-with-glove/
LOCATION:Claire’s Kitchen at Le Salon\, 35 Oxford Street\, Darlinghurst\, NSW\, 2010\, Australia
CATEGORIES:Food & Beverage Experiences,Pride Event,Theatre
ATTACH;FMTTYPE=image/png:https://guidetogay.com/wp-content/uploads/2022/02/Event_To-Sir-with-Glove-2022-Hero_3000x2000.png
ORGANIZER;CN="Points of Difference Events Pty Ltd.":MAILTO:askus@pointsofdifference.com
END:VEVENT
BEGIN:VEVENT
DTSTART;TZID=Australia/Sydney:20220225T190000
DTEND;TZID=Australia/Sydney:20220225T213000
DTSTAMP:20260426T001502
CREATED:20220217T021657Z
LAST-MODIFIED:20220217T021657Z
UID:10591-1645815600-1645824600@guidetogay.com
SUMMARY:The Seven Gins of Pride
DESCRIPTION:The Seven Gins of Pride will take you on a colourful\, twisted journey through… the history of Gin (hint: it’s all thanks to the gays!). \nThis unique experience includes a two-hour masterclass on Gin\, with seven special coloured gins to sample\, along with mixers and garnishes selected to complement each particular blend. Presented by the brilliant threesome of the Decadent & Divine Frock Hudson\, Rubberman & Spirit Expert James Harvey-Fiander (from Box Bar Digital/The Fox Hole)\, and Leatherman & Spirit Drinker Adam Bold (Producer from Points of Difference Travel & Events); all seasoned drinkers of gin! \nSo you can expect plenty of innuendoes\, laughs\, quips and tips\, plus a few camp songs from Frock! \nThis is an event for all our LGBT+ community (well 18+ at least). Our Fetish Friends are particularly welcome as this is a gear safe space! #gear365 \n 
URL:https://guidetogay.com/event/the-seven-gins-of-pride/
LOCATION:The Fox Hole Sydney\, 68A Erskine Street\, Sydney\, NSW\, 2000\, Australia
CATEGORIES:Food & Beverage Experiences,Pride Event
ATTACH;FMTTYPE=image/png:https://guidetogay.com/wp-content/uploads/2022/02/Seven-Gins-of-Pride-Hero-Frock-Hudson_RGB_Pink_3000x2000.png
ORGANIZER;CN="Points of Difference Events Pty Ltd.":MAILTO:askus@pointsofdifference.com
END:VEVENT
END:VCALENDAR