BEGIN:VCALENDAR
VERSION:2.0
PRODID:-//GUIDETOGAY.COM - ECPv6.15.20//NONSGML v1.0//EN
CALSCALE:GREGORIAN
METHOD:PUBLISH
X-WR-CALNAME:GUIDETOGAY.COM
X-ORIGINAL-URL:https://guidetogay.com
X-WR-CALDESC:Events for GUIDETOGAY.COM
REFRESH-INTERVAL;VALUE=DURATION:PT1H
X-Robots-Tag:noindex
X-PUBLISHED-TTL:PT1H
BEGIN:VTIMEZONE
TZID:Australia/Sydney
BEGIN:STANDARD
TZOFFSETFROM:+1100
TZOFFSETTO:+1000
TZNAME:AEST
DTSTART:20220402T160000
END:STANDARD
BEGIN:DAYLIGHT
TZOFFSETFROM:+1000
TZOFFSETTO:+1100
TZNAME:AEDT
DTSTART:20221001T160000
END:DAYLIGHT
BEGIN:STANDARD
TZOFFSETFROM:+1100
TZOFFSETTO:+1000
TZNAME:AEST
DTSTART:20230401T160000
END:STANDARD
BEGIN:DAYLIGHT
TZOFFSETFROM:+1000
TZOFFSETTO:+1100
TZNAME:AEDT
DTSTART:20230930T160000
END:DAYLIGHT
BEGIN:STANDARD
TZOFFSETFROM:+1100
TZOFFSETTO:+1000
TZNAME:AEST
DTSTART:20240406T160000
END:STANDARD
BEGIN:DAYLIGHT
TZOFFSETFROM:+1000
TZOFFSETTO:+1100
TZNAME:AEDT
DTSTART:20241005T160000
END:DAYLIGHT
END:VTIMEZONE
BEGIN:VEVENT
DTSTART;VALUE=DATE:20230305
DTEND;VALUE=DATE:20230306
DTSTAMP:20260424T173956
CREATED:20220306T002651Z
LAST-MODIFIED:20220306T002651Z
UID:11039-1677974400-1678060799@guidetogay.com
SUMMARY:Closing Ceremony Sydney World Pride 2023
DESCRIPTION:Immediately following the Pride March\, everyone will descend into the Domain for the Closing Ceremony concert. \nLeading music acts will bring us to our feet. There will be fun for the whole family and a truly inclusive program of events for all of the LGBTQIA+ communities and their friends. \nWe’ve gathered. We’ve dreamt. We’ve amplified. \nWe’ve danced. We’ve debated. We’ve shared stories. \nWe’ve marched. \nWe have honoured the past. We have lived in the present. We now look to the future. In a program that has been imagined and creatively directed by young LGBTQIA+ people\, there will be powerful and passionate orations that will challenge and inspire. Propel us forward. Charged. \nThe Closing Ceremony will capture the zeitgeist and boldly celebrate queer excellence providing moments for reflection\, rage\, connection and humanity. Fearlessness and fervour. \nAt this event we officially handover WorldPride to the next host city. We did it Sydney! And what a time it was. \nTickets: Free
URL:https://guidetogay.com/event/closing-ceremony-sydney-world-pride-2023/
LOCATION:The Domain\, Domain\, Sydney\, NSW\, 2000\, Australia
CATEGORIES:Concert,Pride Event,Special Day
ATTACH;FMTTYPE=image/jpeg:https://guidetogay.com/wp-content/uploads/2022/03/Closing-Ceremony-fairday2022-crowd-ann-marie-calilhanna-1920x1280-1.jpeg
END:VEVENT
END:VCALENDAR