BEGIN:VCALENDAR
VERSION:2.0
PRODID:-//GUIDETOGAY.COM - ECPv6.15.20//NONSGML v1.0//EN
CALSCALE:GREGORIAN
METHOD:PUBLISH
X-WR-CALNAME:GUIDETOGAY.COM
X-ORIGINAL-URL:https://guidetogay.com
X-WR-CALDESC:Events for GUIDETOGAY.COM
REFRESH-INTERVAL;VALUE=DURATION:PT1H
X-Robots-Tag:noindex
X-PUBLISHED-TTL:PT1H
BEGIN:VTIMEZONE
TZID:Australia/Sydney
BEGIN:STANDARD
TZOFFSETFROM:+1100
TZOFFSETTO:+1000
TZNAME:AEST
DTSTART:20220402T160000
END:STANDARD
BEGIN:DAYLIGHT
TZOFFSETFROM:+1000
TZOFFSETTO:+1100
TZNAME:AEDT
DTSTART:20221001T160000
END:DAYLIGHT
BEGIN:STANDARD
TZOFFSETFROM:+1100
TZOFFSETTO:+1000
TZNAME:AEST
DTSTART:20230401T160000
END:STANDARD
BEGIN:DAYLIGHT
TZOFFSETFROM:+1000
TZOFFSETTO:+1100
TZNAME:AEDT
DTSTART:20230930T160000
END:DAYLIGHT
BEGIN:STANDARD
TZOFFSETFROM:+1100
TZOFFSETTO:+1000
TZNAME:AEST
DTSTART:20240406T160000
END:STANDARD
BEGIN:DAYLIGHT
TZOFFSETFROM:+1000
TZOFFSETTO:+1100
TZNAME:AEDT
DTSTART:20241005T160000
END:DAYLIGHT
END:VTIMEZONE
BEGIN:VEVENT
DTSTART;VALUE=DATE:20230224
DTEND;VALUE=DATE:20230225
DTSTAMP:20260425T055654
CREATED:20210822T235413Z
LAST-MODIFIED:20210822T235413Z
UID:10204-1677196800-1677283199@guidetogay.com
SUMMARY:World Pride 2023 Opening Ceremony
DESCRIPTION:This all-ages event is the official opening ceremony concert for Sydney WorldPride 2023.  \n\n\n\n\nWe will be welcomed by First Nations people through ceremony\, ritual\, dance and song as we pay respect to the traditional custodians of the Sydney area. \nA line-up of our finest LGBTIQ+ performers and friends will see new music acts alongside icons of our stages join together to give audiences an unforgettable evening of party and community. \nOn the lawns of the Domain\, expect to be enchanted as you revel under the stars with loved ones\, new friends and a global community in this joyous celebration to herald the arrival of Sydney WorldPride 2023. \n\n  \nPhoto: Sydney.com
URL:https://guidetogay.com/event/world-pride-2023-opening-ceremony/
LOCATION:The Domain\, Domain\, Sydney\, NSW\, 2000\, Australia
CATEGORIES:Concert,Pride Event
ATTACH;FMTTYPE=image/jpeg:https://guidetogay.com/wp-content/uploads/2021/08/34a528658a9637c6ce2a7c9ca32f3b34-scaled.jpeg
END:VEVENT
END:VCALENDAR