BEGIN:VCALENDAR
VERSION:2.0
PRODID:-//GUIDETOGAY.COM - ECPv6.15.20//NONSGML v1.0//EN
CALSCALE:GREGORIAN
METHOD:PUBLISH
X-WR-CALNAME:GUIDETOGAY.COM
X-ORIGINAL-URL:https://guidetogay.com
X-WR-CALDESC:Events for GUIDETOGAY.COM
REFRESH-INTERVAL;VALUE=DURATION:PT1H
X-Robots-Tag:noindex
X-PUBLISHED-TTL:PT1H
BEGIN:VTIMEZONE
TZID:Australia/Sydney
BEGIN:STANDARD
TZOFFSETFROM:+1100
TZOFFSETTO:+1000
TZNAME:AEST
DTSTART:20210403T160000
END:STANDARD
BEGIN:DAYLIGHT
TZOFFSETFROM:+1000
TZOFFSETTO:+1100
TZNAME:AEDT
DTSTART:20211002T160000
END:DAYLIGHT
BEGIN:STANDARD
TZOFFSETFROM:+1100
TZOFFSETTO:+1000
TZNAME:AEST
DTSTART:20220402T160000
END:STANDARD
BEGIN:DAYLIGHT
TZOFFSETFROM:+1000
TZOFFSETTO:+1100
TZNAME:AEDT
DTSTART:20221001T160000
END:DAYLIGHT
BEGIN:STANDARD
TZOFFSETFROM:+1100
TZOFFSETTO:+1000
TZNAME:AEST
DTSTART:20230401T160000
END:STANDARD
BEGIN:DAYLIGHT
TZOFFSETFROM:+1000
TZOFFSETTO:+1100
TZNAME:AEDT
DTSTART:20230930T160000
END:DAYLIGHT
END:VTIMEZONE
BEGIN:VEVENT
DTSTART;TZID=Australia/Sydney:20220817T180000
DTEND;TZID=Australia/Sydney:20220817T233000
DTSTAMP:20260421T055015
CREATED:20220601T004931Z
LAST-MODIFIED:20220601T004931Z
UID:11787-1660759200-1660779000@guidetogay.com
SUMMARY:Honour Awards 2022
DESCRIPTION:CELEBRATING OUR COMMUNITY\nEstablished in 2007\, the Honour Awards provides NSW’s LGBTQ communities with an important opportunity to recognise excellence and celebrate achievements\, as well as the difference that particular community members and organisations make in our lives. \nThe Honour Awards is returning in 2022 after a two-year hiatus. Due to the pandemic\, the Honour Awards was not held in 2020 and 2021. \nIn 2019\, the Honour Awards was held on 2 October at the Ivy Ballroom in Sydney. \nSee photos from the 2019 Honour Awards here. \n  \nSUPPORTING OUR COMMUNITY\nAs well as recognising outstanding individuals and organisations in NSW’s LGBTQ communities\, Honour raises much needed funds for programs and services delivered by ACON\, which create a healthier and safer community for all. All funds raised from the Honour Awards goes back to the community\, supporting initiatives that improve the health and wellbeing of LGBTQ people in NSW. \nABOUT ACON \nACON is NSW’s leading community-based organisation specialising in HIV prevention\, HIV support and LGBTQ health. Established in 1985 as the AIDS Council of New South Wales\, ACON works to create opportunities for people in our communities to live their healthiest lives. \nFind out more about ACON here.
URL:https://guidetogay.com/event/honour-awards-2022/
LOCATION:IVY Ballroom\, Level 1/320 George St\, Sydney\, NSW\, 2000\, Australia
CATEGORIES:Awards / Ceremonies
ATTACH;FMTTYPE=image/png:https://guidetogay.com/wp-content/uploads/2022/06/HON-logo-LGBTQ.png
END:VEVENT
BEGIN:VEVENT
DTSTART;TZID=Australia/Sydney:20220625T183000
DTEND;TZID=Australia/Sydney:20220625T230000
DTSTAMP:20260421T055015
CREATED:20220406T065643Z
LAST-MODIFIED:20220406T065643Z
UID:11617-1656181800-1656198000@guidetogay.com
SUMMARY:Queens Ball 2022
DESCRIPTION:Pssttt! The theme is set! \nA masquerade party ball is on its way. \nJoin the celebrations on Saturday 25 June at the 61st Queens Ball Awards.\nGet ready with your favourite mask! \nYOU’RE INVITED! \n#Queensball2022 #lgbtiqlegends#Masqueradetheme#Brisbaneprideincorporated#visibleconnectedproud
URL:https://guidetogay.com/event/queens-ball-2022/
LOCATION:Brisbane City Hall\, 54 Adelaide Street\, Brisbane\, QLD\, 4000\, Australia
CATEGORIES:Awards / Ceremonies,Pride Event
ATTACH;FMTTYPE=image/jpeg:https://guidetogay.com/wp-content/uploads/2022/04/277556590_5105456106177881_7415475907887314554_n.jpeg
END:VEVENT
END:VCALENDAR